Package: scQTLtools Version: 1.0.3 Command: rm -rf scQTLtools.buildbin-libdir && mkdir scQTLtools.buildbin-libdir && /Users/biocbuild/BBS/utils/build-universal.sh scQTLtools_1.0.3.tar.gz /Library/Frameworks/R.framework/Resources/bin/R scQTLtools.buildbin-libdir StartedAt: 2025-10-11 22:12:09 -0400 (Sat, 11 Oct 2025) EndedAt: 2025-10-11 22:13:08 -0400 (Sat, 11 Oct 2025) EllapsedTime: 58.9 seconds RetCode: 0 Status: OK PackageFile: scQTLtools_1.0.3.tgz PackageFileSize: 5.476 MiB