Package: scPipe Version: 2.10.0 Command: /home/biocbuild/R/R/bin/R CMD INSTALL scPipe StartedAt: 2025-11-13 21:46:48 -0000 (Thu, 13 Nov 2025) EndedAt: 2025-11-13 21:49:59 -0000 (Thu, 13 Nov 2025) EllapsedTime: 190.7 seconds RetCode: 0 Status: OK