Package: scPipe Version: 2.10.0 Command: /home/biocbuild/R/R/bin/R CMD build --keep-empty-dirs --no-resave-data scPipe StartedAt: 2025-11-14 05:11:50 -0000 (Fri, 14 Nov 2025) EndedAt: 2025-11-14 05:17:37 -0000 (Fri, 14 Nov 2025) EllapsedTime: 347.2 seconds RetCode: 0 Status: OK PackageFile: scPipe_2.10.0.tar.gz PackageFileSize: 12.54 MiB