Package: scPipe Version: 2.10.0 Command: /home/biocbuild/bbs-3.22-bioc/R/bin/R CMD INSTALL scPipe StartedAt: 2025-11-11 15:41:36 -0500 (Tue, 11 Nov 2025) EndedAt: 2025-11-11 15:43:50 -0500 (Tue, 11 Nov 2025) EllapsedTime: 134.4 seconds RetCode: 0 Status: OK