Package: scPipe Version: 2.8.0 Command: /Library/Frameworks/R.framework/Resources/bin/R CMD INSTALL scPipe StartedAt: 2025-10-13 16:07:29 -0400 (Mon, 13 Oct 2025) EndedAt: 2025-10-13 16:12:14 -0400 (Mon, 13 Oct 2025) EllapsedTime: 284.9 seconds RetCode: 0 Status: OK