Package: scPipe Version: 2.8.0 Command: /Library/Frameworks/R.framework/Resources/bin/R CMD INSTALL scPipe StartedAt: 2025-09-29 16:54:19 -0400 (Mon, 29 Sep 2025) EndedAt: 2025-09-29 16:56:38 -0400 (Mon, 29 Sep 2025) EllapsedTime: 139.7 seconds RetCode: 0 Status: OK