Package: scPipe Version: 2.8.0 Command: /Library/Frameworks/R.framework/Resources/bin/R CMD build --keep-empty-dirs --no-resave-data scPipe StartedAt: 2025-09-26 08:40:45 -0400 (Fri, 26 Sep 2025) EndedAt: 2025-09-26 08:57:23 -0400 (Fri, 26 Sep 2025) EllapsedTime: 998.2 seconds RetCode: 0 Status: OK PackageFile: scPipe_2.8.0.tar.gz PackageFileSize: 12.67 MiB