Package: scPCA Version: 1.24.0 Command: /home/biocbuild/R/R/bin/R CMD INSTALL scPCA StartedAt: 2025-11-10 22:05:00 -0000 (Mon, 10 Nov 2025) EndedAt: 2025-11-10 22:05:36 -0000 (Mon, 10 Nov 2025) EllapsedTime: 36.5 seconds RetCode: 0 Status: OK