Package: scPCA Version: 1.24.0 Command: /home/biocbuild/R/R/bin/R CMD build --keep-empty-dirs --no-resave-data scPCA StartedAt: 2025-11-11 04:59:01 -0000 (Tue, 11 Nov 2025) EndedAt: 2025-11-11 05:06:38 -0000 (Tue, 11 Nov 2025) EllapsedTime: 456.2 seconds RetCode: 0 Status: OK PackageFile: scPCA_1.24.0.tar.gz PackageFileSize: 1.042 MiB