Package: scPCA Version: 1.24.0 Command: /home/biocbuild/bbs-3.22-bioc/R/bin/R CMD check --install=check:scPCA.install-out.txt --library=/home/biocbuild/bbs-3.22-bioc/R/site-library --timings scPCA_1.24.0.tar.gz StartedAt: 2025-11-12 03:54:33 -0500 (Wed, 12 Nov 2025) EndedAt: 2025-11-12 04:02:07 -0500 (Wed, 12 Nov 2025) EllapsedTime: 454.3 seconds RetCode: 0 Status: OK CheckDir: scPCA.Rcheck Warnings: 0