Package: scPCA Version: 1.22.0 Command: /Library/Frameworks/R.framework/Resources/bin/R CMD INSTALL scPCA StartedAt: 2025-10-13 16:38:18 -0400 (Mon, 13 Oct 2025) EndedAt: 2025-10-13 16:39:19 -0400 (Mon, 13 Oct 2025) EllapsedTime: 60.9 seconds RetCode: 0 Status: OK