Package: scPCA Version: 1.22.0 Command: /Library/Frameworks/R.framework/Resources/bin/R CMD build --keep-empty-dirs --no-resave-data scPCA StartedAt: 2025-04-21 18:21:46 -0400 (Mon, 21 Apr 2025) EndedAt: 2025-04-21 18:27:52 -0400 (Mon, 21 Apr 2025) EllapsedTime: 366.1 seconds RetCode: 0 Status: OK PackageFile: scPCA_1.22.0.tar.gz PackageFileSize: 2.047 MiB