Package: scMultiSim Version: 1.4.0 Command: chmod a+r scMultiSim -R && E:\biocbuild\bbs-3.21-bioc\R\bin\R.exe CMD build --keep-empty-dirs --no-resave-data scMultiSim StartedAt: 2025-08-14 22:03:21 -0400 (Thu, 14 Aug 2025) EndedAt: 2025-08-14 22:16:05 -0400 (Thu, 14 Aug 2025) EllapsedTime: 763.4 seconds RetCode: 0 Status: OK PackageFile: scMultiSim_1.4.0.tar.gz PackageFileSize: 4.067 MiB