Package: scMultiSim Version: 1.6.0 Command: /home/biocbuild/bbs-3.22-bioc/R/bin/R CMD INSTALL scMultiSim StartedAt: 2025-11-11 15:28:23 -0500 (Tue, 11 Nov 2025) EndedAt: 2025-11-11 15:28:52 -0500 (Tue, 11 Nov 2025) EllapsedTime: 28.8 seconds RetCode: 0 Status: OK