Package: scMultiSim Version: 1.4.0 Command: /Library/Frameworks/R.framework/Resources/bin/R CMD INSTALL scMultiSim StartedAt: 2025-09-25 15:42:34 -0400 (Thu, 25 Sep 2025) EndedAt: 2025-09-25 15:43:40 -0400 (Thu, 25 Sep 2025) EllapsedTime: 65.9 seconds RetCode: 0 Status: OK