Package: scMultiSim Version: 1.4.0 Command: /Library/Frameworks/R.framework/Resources/bin/R CMD build --keep-empty-dirs --no-resave-data scMultiSim StartedAt: 2025-09-29 22:24:08 -0400 (Mon, 29 Sep 2025) EndedAt: 2025-09-29 22:42:58 -0400 (Mon, 29 Sep 2025) EllapsedTime: 1130.1 seconds RetCode: 0 Status: OK PackageFile: scMultiSim_1.4.0.tar.gz PackageFileSize: 5.385 MiB