Package: scMultiSim Version: 1.4.0 Command: rm -rf scMultiSim.buildbin-libdir && mkdir scMultiSim.buildbin-libdir && /Users/biocbuild/BBS/utils/build-universal.sh scMultiSim_1.4.0.tar.gz /Library/Frameworks/R.framework/Resources/bin/R scMultiSim.buildbin-libdir StartedAt: 2025-09-26 16:02:52 -0400 (Fri, 26 Sep 2025) EndedAt: 2025-09-26 16:04:00 -0400 (Fri, 26 Sep 2025) EllapsedTime: 68.2 seconds RetCode: 0 Status: OK PackageFile: scMultiSim_1.4.0.tgz PackageFileSize: 5.755 MiB