Package: scMitoMut Version: 1.6.0 Command: /home/biocbuild/R/R/bin/R CMD INSTALL scMitoMut StartedAt: 2025-11-13 21:11:04 -0000 (Thu, 13 Nov 2025) EndedAt: 2025-11-13 21:11:38 -0000 (Thu, 13 Nov 2025) EllapsedTime: 34.5 seconds RetCode: 0 Status: OK