Package: scMitoMut Version: 1.6.0 Command: /home/biocbuild/R/R/bin/R CMD build --keep-empty-dirs --no-resave-data scMitoMut StartedAt: 2025-11-14 05:09:55 -0000 (Fri, 14 Nov 2025) EndedAt: 2025-11-14 05:10:55 -0000 (Fri, 14 Nov 2025) EllapsedTime: 59.0 seconds RetCode: 0 Status: OK PackageFile: scMitoMut_1.6.0.tar.gz PackageFileSize: 1.059 MiB