Package: scMitoMut Version: 1.4.0 Command: rm -rf scMitoMut.buildbin-libdir && mkdir scMitoMut.buildbin-libdir && /Users/biocbuild/BBS/utils/build-universal.sh scMitoMut_1.4.0.tar.gz /Library/Frameworks/R.framework/Resources/bin/R scMitoMut.buildbin-libdir StartedAt: 2025-10-04 19:52:16 -0400 (Sat, 04 Oct 2025) EndedAt: 2025-10-04 19:52:40 -0400 (Sat, 04 Oct 2025) EllapsedTime: 24.7 seconds RetCode: 0 Status: OK PackageFile: scMitoMut_1.4.0.tgz PackageFileSize: 1.304 MiB