Package: scMerge Version: 1.26.0 Command: /home/biocbuild/R/R/bin/R CMD INSTALL scMerge StartedAt: 2025-11-13 22:07:18 -0000 (Thu, 13 Nov 2025) EndedAt: 2025-11-13 22:08:13 -0000 (Thu, 13 Nov 2025) EllapsedTime: 55.0 seconds RetCode: 0 Status: OK