Package: scMerge Version: 1.26.0 Command: /home/biocbuild/R/R/bin/R CMD build --keep-empty-dirs --no-resave-data scMerge StartedAt: 2025-11-14 05:09:27 -0000 (Fri, 14 Nov 2025) EndedAt: 2025-11-14 05:10:48 -0000 (Fri, 14 Nov 2025) EllapsedTime: 80.1 seconds RetCode: 1 Status: ERROR PackageFile: None PackageFileSize: NA