Package: scMerge Version: 1.26.0 Command: /home/biocbuild/bbs-3.22-bioc/R/bin/R CMD INSTALL scMerge StartedAt: 2025-11-11 16:00:47 -0500 (Tue, 11 Nov 2025) EndedAt: 2025-11-11 16:01:32 -0500 (Tue, 11 Nov 2025) EllapsedTime: 45.0 seconds RetCode: 0 Status: OK