Package: scMerge Version: 1.26.0 Command: /home/biocbuild/bbs-3.22-bioc/R/bin/R CMD build --keep-empty-dirs --no-resave-data --md5 scMerge StartedAt: 2025-11-11 20:03:08 -0500 (Tue, 11 Nov 2025) EndedAt: 2025-11-11 20:05:05 -0500 (Tue, 11 Nov 2025) EllapsedTime: 117.1 seconds RetCode: 0 Status: OK PackageFile: scMerge_1.26.0.tar.gz PackageFileSize: 2.683 MiB