Package: scMerge Version: 1.24.0 Command: /home/biocbuild/R/R/bin/R CMD INSTALL scMerge StartedAt: 2025-09-25 21:16:15 -0000 (Thu, 25 Sep 2025) EndedAt: 2025-09-25 21:17:20 -0000 (Thu, 25 Sep 2025) EllapsedTime: 64.5 seconds RetCode: 0 Status: OK