Package: scMerge Version: 1.24.0 Command: /home/biocbuild/R/R/bin/R CMD build --keep-empty-dirs --no-resave-data scMerge StartedAt: 2025-09-26 05:44:59 -0000 (Fri, 26 Sep 2025) EndedAt: 2025-09-26 05:48:03 -0000 (Fri, 26 Sep 2025) EllapsedTime: 184.1 seconds RetCode: 0 Status: OK PackageFile: scMerge_1.24.0.tar.gz PackageFileSize: 3.02 MiB