Package: scMerge Version: 1.24.0 Command: rm -rf scMerge.buildbin-libdir && mkdir scMerge.buildbin-libdir && /Users/biocbuild/BBS/utils/build-universal.sh scMerge_1.24.0.tar.gz /Library/Frameworks/R.framework/Resources/bin/R scMerge.buildbin-libdir StartedAt: 2025-09-27 19:22:29 -0400 (Sat, 27 Sep 2025) EndedAt: 2025-09-27 19:23:24 -0400 (Sat, 27 Sep 2025) EllapsedTime: 55.0 seconds RetCode: 0 Status: OK PackageFile: scMerge_1.24.0.tgz PackageFileSize: 3.497 MiB