Package: scMET Version: 1.10.0 Command: /home/biocbuild/R/R/bin/R CMD INSTALL scMET StartedAt: 2025-10-13 20:48:54 -0000 (Mon, 13 Oct 2025) EndedAt: 2025-10-13 20:52:00 -0000 (Mon, 13 Oct 2025) EllapsedTime: 185.3 seconds RetCode: 0 Status: OK