Package: scMET Version: 1.10.0 Command: /home/biocbuild/R/R/bin/R CMD build --keep-empty-dirs --no-resave-data scMET StartedAt: 2025-10-14 04:28:14 -0000 (Tue, 14 Oct 2025) EndedAt: 2025-10-14 04:33:22 -0000 (Tue, 14 Oct 2025) EllapsedTime: 307.1 seconds RetCode: 0 Status: OK PackageFile: scMET_1.10.0.tar.gz PackageFileSize: 3.2 MiB