Package: scMET Version: 1.12.0 Command: /Library/Frameworks/R.framework/Resources/bin/R CMD INSTALL scMET StartedAt: 2025-10-31 15:22:28 -0400 (Fri, 31 Oct 2025) EndedAt: 2025-10-31 15:23:00 -0400 (Fri, 31 Oct 2025) EllapsedTime: 32.2 seconds RetCode: 0 Status: OK