Package: scMET Version: 1.12.0 Command: /Library/Frameworks/R.framework/Resources/bin/R CMD build --keep-empty-dirs --no-resave-data scMET StartedAt: 2025-10-31 17:43:18 -0400 (Fri, 31 Oct 2025) EndedAt: 2025-10-31 17:44:26 -0400 (Fri, 31 Oct 2025) EllapsedTime: 68.8 seconds RetCode: 0 Status: OK PackageFile: scMET_1.12.0.tar.gz PackageFileSize: 3.282 MiB