Package: scMET Version: 1.12.0 Command: rm -rf scMET.buildbin-libdir && mkdir scMET.buildbin-libdir && /Users/biocbuild/BBS/utils/build-universal.sh scMET_1.12.0.tar.gz /Library/Frameworks/R.framework/Resources/bin/R scMET.buildbin-libdir StartedAt: 2025-10-31 23:22:47 -0400 (Fri, 31 Oct 2025) EndedAt: 2025-10-31 23:23:22 -0400 (Fri, 31 Oct 2025) EllapsedTime: 35.6 seconds RetCode: 0 Status: OK PackageFile: scMET_1.12.0.tgz PackageFileSize: 4.024 MiB