Package: scLANE Version: 1.0.0 Command: /home/biocbuild/R/R/bin/R CMD INSTALL scLANE StartedAt: 2025-11-13 21:14:08 -0000 (Thu, 13 Nov 2025) EndedAt: 2025-11-13 21:15:20 -0000 (Thu, 13 Nov 2025) EllapsedTime: 72.7 seconds RetCode: 0 Status: OK