Package: scLANE Version: 1.0.0 Command: /home/biocbuild/R/R/bin/R CMD build --keep-empty-dirs --no-resave-data scLANE StartedAt: 2025-11-14 05:09:10 -0000 (Fri, 14 Nov 2025) EndedAt: 2025-11-14 05:11:22 -0000 (Fri, 14 Nov 2025) EllapsedTime: 131.1 seconds RetCode: 0 Status: OK PackageFile: scLANE_1.0.0.tar.gz PackageFileSize: 2.805 MiB