Package: scLANE Version: 1.0.0 Command: /home/biocbuild/bbs-3.22-bioc/R/bin/R CMD INSTALL scLANE StartedAt: 2025-11-11 15:13:52 -0500 (Tue, 11 Nov 2025) EndedAt: 2025-11-11 15:14:40 -0500 (Tue, 11 Nov 2025) EllapsedTime: 48.3 seconds RetCode: 0 Status: OK