Package: scLANE Version: 1.0.0 Command: /Library/Frameworks/R.framework/Resources/bin/R CMD build --keep-empty-dirs --no-resave-data scLANE StartedAt: 2025-11-03 18:39:42 -0500 (Mon, 03 Nov 2025) EndedAt: 2025-11-03 18:42:01 -0500 (Mon, 03 Nov 2025) EllapsedTime: 138.6 seconds RetCode: 0 Status: OK PackageFile: scLANE_1.0.0.tar.gz PackageFileSize: 4.646 MiB