Package: scHiCcompare Version: 1.2.0 Command: /home/biocbuild/R/R/bin/R CMD INSTALL scHiCcompare StartedAt: 2025-11-10 21:40:11 -0000 (Mon, 10 Nov 2025) EndedAt: 2025-11-10 21:40:49 -0000 (Mon, 10 Nov 2025) EllapsedTime: 38.0 seconds RetCode: 0 Status: OK