Package: scHiCcompare Version: 1.2.0 Command: /home/biocbuild/R/R/bin/R CMD build --keep-empty-dirs --no-resave-data scHiCcompare StartedAt: 2025-11-11 04:55:00 -0000 (Tue, 11 Nov 2025) EndedAt: 2025-11-11 04:56:14 -0000 (Tue, 11 Nov 2025) EllapsedTime: 74.0 seconds RetCode: 0 Status: OK PackageFile: scHiCcompare_1.2.0.tar.gz PackageFileSize: 1.185 MiB