Package: scHiCcompare Version: 1.2.0 Command: /home/biocbuild/bbs-3.22-bioc/R/bin/R CMD check --install=check:scHiCcompare.install-out.txt --library=/home/biocbuild/bbs-3.22-bioc/R/site-library --timings scHiCcompare_1.2.0.tar.gz StartedAt: 2025-11-14 03:51:51 -0500 (Fri, 14 Nov 2025) EndedAt: 2025-11-14 03:56:07 -0500 (Fri, 14 Nov 2025) EllapsedTime: 255.2 seconds RetCode: 0 Status: WARNINGS CheckDir: scHiCcompare.Rcheck Warnings: 1