Package: scHiCcompare Version: 1.2.0 Command: /home/biocbuild/bbs-3.22-bioc/R/bin/R CMD build --keep-empty-dirs --no-resave-data --md5 scHiCcompare StartedAt: 2025-11-13 20:00:19 -0500 (Thu, 13 Nov 2025) EndedAt: 2025-11-13 20:01:13 -0500 (Thu, 13 Nov 2025) EllapsedTime: 54.0 seconds RetCode: 0 Status: OK PackageFile: scHiCcompare_1.2.0.tar.gz PackageFileSize: 1.275 MiB