Package: scHiCcompare Version: 1.0.0 Command: /Library/Frameworks/R.framework/Resources/bin/R CMD INSTALL scHiCcompare StartedAt: 2025-10-06 15:55:45 -0400 (Mon, 06 Oct 2025) EndedAt: 2025-10-06 15:56:50 -0400 (Mon, 06 Oct 2025) EllapsedTime: 64.9 seconds RetCode: 0 Status: OK