Package: scHOT Version: 1.22.0 Command: /home/biocbuild/R/R/bin/R CMD build --keep-empty-dirs --no-resave-data scHOT StartedAt: 2025-11-14 05:08:06 -0000 (Fri, 14 Nov 2025) EndedAt: 2025-11-14 05:11:07 -0000 (Fri, 14 Nov 2025) EllapsedTime: 180.1 seconds RetCode: 0 Status: OK PackageFile: scHOT_1.22.0.tar.gz PackageFileSize: 1.914 MiB