Package: scHOT Version: 1.22.0 Command: /home/biocbuild/bbs-3.22-bioc/R/bin/R CMD INSTALL scHOT StartedAt: 2025-11-11 15:27:38 -0500 (Tue, 11 Nov 2025) EndedAt: 2025-11-11 15:28:06 -0500 (Tue, 11 Nov 2025) EllapsedTime: 28.1 seconds RetCode: 0 Status: OK