Package: scHOT Version: 1.22.0 Command: /home/biocbuild/bbs-3.22-bioc/R/bin/R CMD build --keep-empty-dirs --no-resave-data --md5 scHOT StartedAt: 2025-11-11 20:01:48 -0500 (Tue, 11 Nov 2025) EndedAt: 2025-11-11 20:03:53 -0500 (Tue, 11 Nov 2025) EllapsedTime: 125.1 seconds RetCode: 0 Status: OK PackageFile: scHOT_1.22.0.tar.gz PackageFileSize: 2.138 MiB