Package: scHOT Version: 1.20.1 Command: /Library/Frameworks/R.framework/Resources/bin/R CMD INSTALL scHOT StartedAt: 2025-10-13 15:42:30 -0400 (Mon, 13 Oct 2025) EndedAt: 2025-10-13 15:43:31 -0400 (Mon, 13 Oct 2025) EllapsedTime: 61.0 seconds RetCode: 0 Status: OK