Package: scHOT Version: 1.20.1 Command: /Library/Frameworks/R.framework/Resources/bin/R CMD build --keep-empty-dirs --no-resave-data scHOT StartedAt: 2025-10-13 22:21:56 -0400 (Mon, 13 Oct 2025) EndedAt: 2025-10-13 22:28:22 -0400 (Mon, 13 Oct 2025) EllapsedTime: 385.7 seconds RetCode: 0 Status: OK PackageFile: scHOT_1.20.1.tar.gz PackageFileSize: 2.314 MiB