Package: scHOT Version: 1.20.1 Command: rm -rf scHOT.buildbin-libdir && mkdir scHOT.buildbin-libdir && /Users/biocbuild/BBS/utils/build-universal.sh scHOT_1.20.1.tar.gz /Library/Frameworks/R.framework/Resources/bin/R scHOT.buildbin-libdir StartedAt: 2025-09-27 19:21:51 -0400 (Sat, 27 Sep 2025) EndedAt: 2025-09-27 19:22:29 -0400 (Sat, 27 Sep 2025) EllapsedTime: 38.4 seconds RetCode: 0 Status: OK PackageFile: scHOT_1.20.1.tgz PackageFileSize: 2.699 MiB