Package: scGraphVerse Version: 1.0.0 Command: /home/biocbuild/bbs-3.22-bioc/R/bin/R CMD check --install=check:scGraphVerse.install-out.txt --library=/home/biocbuild/bbs-3.22-bioc/R/site-library --timings scGraphVerse_1.0.0.tar.gz StartedAt: 2025-11-12 03:49:32 -0500 (Wed, 12 Nov 2025) EndedAt: 2025-11-12 04:11:09 -0500 (Wed, 12 Nov 2025) EllapsedTime: 1297.1 seconds RetCode: 0 Status: OK CheckDir: scGraphVerse.Rcheck Warnings: 0