Package: scGraphVerse Version: 1.0.0 Command: /home/biocbuild/bbs-3.22-bioc/R/bin/R CMD build --keep-empty-dirs --no-resave-data --md5 scGraphVerse StartedAt: 2025-11-11 20:01:33 -0500 (Tue, 11 Nov 2025) EndedAt: 2025-11-11 20:07:49 -0500 (Tue, 11 Nov 2025) EllapsedTime: 376.2 seconds RetCode: 0 Status: OK PackageFile: scGraphVerse_1.0.0.tar.gz PackageFileSize: 3.645 MiB