Package: scGraphVerse Version: 1.0.0 Command: /Library/Frameworks/R.framework/Resources/bin/R CMD INSTALL scGraphVerse StartedAt: 2025-11-03 15:27:23 -0500 (Mon, 03 Nov 2025) EndedAt: 2025-11-03 15:28:04 -0500 (Mon, 03 Nov 2025) EllapsedTime: 40.6 seconds RetCode: 0 Status: OK